BEGIN:VCALENDAR
VERSION:2.0
PRODID:-//Centre d’Appui aux Services de Médiation de Dettes de la Région de Bruxelles-Capitale - ECPv6.15.11//NONSGML v1.0//EN
CALSCALE:GREGORIAN
METHOD:PUBLISH
X-WR-CALNAME:Centre d’Appui aux Services de Médiation de Dettes de la Région de Bruxelles-Capitale
X-ORIGINAL-URL:https://www.mediationdedettes.be/nl/
X-WR-CALDESC:Evenementen voor Centre d’Appui aux Services de Médiation de Dettes de la Région de Bruxelles-Capitale
REFRESH-INTERVAL;VALUE=DURATION:PT1H
X-Robots-Tag:noindex
X-PUBLISHED-TTL:PT1H
BEGIN:VTIMEZONE
TZID:Europe/Brussels
BEGIN:DAYLIGHT
TZOFFSETFROM:+0100
TZOFFSETTO:+0200
TZNAME:CEST
DTSTART:20250330T010000
END:DAYLIGHT
BEGIN:STANDARD
TZOFFSETFROM:+0200
TZOFFSETTO:+0100
TZNAME:CET
DTSTART:20251026T010000
END:STANDARD
BEGIN:DAYLIGHT
TZOFFSETFROM:+0100
TZOFFSETTO:+0200
TZNAME:CEST
DTSTART:20260329T010000
END:DAYLIGHT
BEGIN:STANDARD
TZOFFSETFROM:+0200
TZOFFSETTO:+0100
TZNAME:CET
DTSTART:20261025T010000
END:STANDARD
BEGIN:DAYLIGHT
TZOFFSETFROM:+0100
TZOFFSETTO:+0200
TZNAME:CEST
DTSTART:20270328T010000
END:DAYLIGHT
BEGIN:STANDARD
TZOFFSETFROM:+0200
TZOFFSETTO:+0100
TZNAME:CET
DTSTART:20271031T010000
END:STANDARD
END:VTIMEZONE
BEGIN:VEVENT
DTSTART;TZID=Europe/Brussels:20261001T090000
DTEND;TZID=Europe/Brussels:20261001T170000
DTSTAMP:20260424T044333
CREATED:20260415T135153Z
LAST-MODIFIED:20260415T135153Z
UID:10006154-1790845200-1790874000@www.mediationdedettes.be
SUMMARY:Basisopleiding schuldbemiddeling (in het Frans)
DESCRIPTION:Opleiding
URL:https://www.mediationdedettes.be/nl/event/basisopleiding-schuldbemiddeling-in-het-frans-13/
CATEGORIES:Opleiding
END:VEVENT
BEGIN:VEVENT
DTSTART;TZID=Europe/Brussels:20261006T090000
DTEND;TZID=Europe/Brussels:20261006T170000
DTSTAMP:20260424T044333
CREATED:20251209T144627Z
LAST-MODIFIED:20251209T144627Z
UID:10005780-1791277200-1791306000@www.mediationdedettes.be
SUMMARY:Het nieuwe tarief van gerechtsdeurwaarders (voor gevorderden\, in het Frans)
DESCRIPTION:Opleiding
URL:https://www.mediationdedettes.be/nl/event/het-nieuwe-tarief-van-gerechtsdeurwaarders-voor-gevorderden-in-het-frans/
CATEGORIES:Opleiding
END:VEVENT
BEGIN:VEVENT
DTSTART;TZID=Europe/Brussels:20261008T090000
DTEND;TZID=Europe/Brussels:20261008T170000
DTSTAMP:20260424T044333
CREATED:20260415T135154Z
LAST-MODIFIED:20260415T135154Z
UID:10006155-1791450000-1791478800@www.mediationdedettes.be
SUMMARY:Basisopleiding schuldbemiddeling (in het Frans)
DESCRIPTION:Opleiding
URL:https://www.mediationdedettes.be/nl/event/basisopleiding-schuldbemiddeling-in-het-frans-14/
CATEGORIES:Opleiding
END:VEVENT
BEGIN:VEVENT
DTSTART;TZID=Europe/Brussels:20261013T090000
DTEND;TZID=Europe/Brussels:20261013T170000
DTSTAMP:20260424T044333
CREATED:20260211T100927Z
LAST-MODIFIED:20260211T100927Z
UID:10006069-1791882000-1791910800@www.mediationdedettes.be
SUMMARY:Contractbreuk onder de loep van consumentenbescherming (in het Frans)
DESCRIPTION:Opleiding
URL:https://www.mediationdedettes.be/nl/event/contractbreuk-onder-de-loep-van-consumentenbescherming-in-het-frans/
CATEGORIES:Opleiding
END:VEVENT
BEGIN:VEVENT
DTSTART;TZID=Europe/Brussels:20261015T090000
DTEND;TZID=Europe/Brussels:20261015T170000
DTSTAMP:20260424T044333
CREATED:20260415T135154Z
LAST-MODIFIED:20260415T135154Z
UID:10006156-1792054800-1792083600@www.mediationdedettes.be
SUMMARY:Basisopleiding schuldbemiddeling (in het Frans)
DESCRIPTION:Opleiding
URL:https://www.mediationdedettes.be/nl/event/basisopleiding-schuldbemiddeling-in-het-frans-15/
CATEGORIES:Opleiding
END:VEVENT
END:VCALENDAR