BEGIN:VCALENDAR
VERSION:2.0
PRODID:-//Centre d’Appui aux Services de Médiation de Dettes de la Région de Bruxelles-Capitale - ECPv6.15.11//NONSGML v1.0//EN
CALSCALE:GREGORIAN
METHOD:PUBLISH
X-ORIGINAL-URL:https://www.mediationdedettes.be/nl/
X-WR-CALDESC:Evenementen voor Centre d’Appui aux Services de Médiation de Dettes de la Région de Bruxelles-Capitale
REFRESH-INTERVAL;VALUE=DURATION:PT1H
X-Robots-Tag:noindex
X-PUBLISHED-TTL:PT1H
BEGIN:VTIMEZONE
TZID:Europe/Brussels
BEGIN:DAYLIGHT
TZOFFSETFROM:+0100
TZOFFSETTO:+0200
TZNAME:CEST
DTSTART:20250330T010000
END:DAYLIGHT
BEGIN:STANDARD
TZOFFSETFROM:+0200
TZOFFSETTO:+0100
TZNAME:CET
DTSTART:20251026T010000
END:STANDARD
BEGIN:DAYLIGHT
TZOFFSETFROM:+0100
TZOFFSETTO:+0200
TZNAME:CEST
DTSTART:20260329T010000
END:DAYLIGHT
BEGIN:STANDARD
TZOFFSETFROM:+0200
TZOFFSETTO:+0100
TZNAME:CET
DTSTART:20261025T010000
END:STANDARD
BEGIN:DAYLIGHT
TZOFFSETFROM:+0100
TZOFFSETTO:+0200
TZNAME:CEST
DTSTART:20270328T010000
END:DAYLIGHT
BEGIN:STANDARD
TZOFFSETFROM:+0200
TZOFFSETTO:+0100
TZNAME:CET
DTSTART:20271031T010000
END:STANDARD
END:VTIMEZONE
BEGIN:VEVENT
DTSTART;TZID=Europe/Brussels:20260505T090000
DTEND;TZID=Europe/Brussels:20260505T123000
DTSTAMP:20260423T162332
CREATED:20260327T095503Z
LAST-MODIFIED:20260327T095503Z
UID:10006119-1777971600-1777984200@www.mediationdedettes.be
SUMMARY:Het nieuwe tarief van de gerechtsdeurwaarders
DESCRIPTION:Opleiding
URL:https://www.mediationdedettes.be/nl/event/het-nieuwe-tarief-van-de-gerechtsdeurwaarders/
CATEGORIES:Opleiding
END:VEVENT
BEGIN:VEVENT
DTSTART;TZID=Europe/Brussels:20260506T093000
DTEND;TZID=Europe/Brussels:20260506T113000
DTSTAMP:20260423T162332
CREATED:20250728T124534Z
LAST-MODIFIED:20250728T124534Z
UID:10004765-1778059800-1778067000@www.mediationdedettes.be
SUMMARY:Inschrijving informatiesessies collectieve schuldenregeling
DESCRIPTION:Informatiesessies over de collectieve schuldenregeling
URL:https://www.mediationdedettes.be/nl/event/inschrijving-informatiesessies-collectieve-schuldenregeling-5/
CATEGORIES:Informatiesessies over de collectieve schuldenregeling
END:VEVENT
BEGIN:VEVENT
DTSTART;TZID=Europe/Brussels:20260512T090000
DTEND;TZID=Europe/Brussels:20260512T130000
DTSTAMP:20260423T162332
CREATED:20260127T105447Z
LAST-MODIFIED:20260127T105447Z
UID:10006019-1778576400-1778590800@www.mediationdedettes.be
SUMMARY:Benadering van de behandeling van schuldoverlast (in het Frans)
DESCRIPTION:Opleiding
URL:https://www.mediationdedettes.be/nl/event/benadering-van-de-behandeling-van-schuldoverlast-in-het-frans-7/
CATEGORIES:Opleiding
END:VEVENT
BEGIN:VEVENT
DTSTART;TZID=Europe/Brussels:20260519T090000
DTEND;TZID=Europe/Brussels:20260519T123000
DTSTAMP:20260423T162332
CREATED:20260211T092103Z
LAST-MODIFIED:20260211T092103Z
UID:10006065-1779181200-1779193800@www.mediationdedettes.be
SUMMARY:De kosten van mede-eigendom onder de loep genomen (in het Frans)
DESCRIPTION:Opleiding
URL:https://www.mediationdedettes.be/nl/event/de-kosten-van-mede-eigendom-onder-de-loep-genomen-in-het-frans/
CATEGORIES:Opleiding
END:VEVENT
BEGIN:VEVENT
DTSTART;TZID=Europe/Brussels:20260526T090000
DTEND;TZID=Europe/Brussels:20260526T170000
DTSTAMP:20260423T162332
CREATED:20251210T103152Z
LAST-MODIFIED:20251210T103152Z
UID:10005851-1779786000-1779814800@www.mediationdedettes.be
SUMMARY:Schulden van koppels (in het Frans)
DESCRIPTION:Opleiding
URL:https://www.mediationdedettes.be/nl/event/schulden-van-koppels-in-het-frans/
CATEGORIES:Opleiding
END:VEVENT
BEGIN:VEVENT
DTSTART;TZID=Europe/Brussels:20260528T140000
DTEND;TZID=Europe/Brussels:20260528T163000
DTSTAMP:20260423T162332
CREATED:20260309T132827Z
LAST-MODIFIED:20260309T132827Z
UID:10006101-1779976800-1779985800@www.mediationdedettes.be
SUMMARY:Conferentie-debat: ontmoeting met de Ombudsman van de Verzekeringen (in het Frans)
DESCRIPTION:Conferenties en Rondetafelgesprakken
URL:https://www.mediationdedettes.be/nl/event/conferentie-debat-ontmoeting-met-de-ombudsman-van-de-verzekeringen-in-het-frans/
CATEGORIES:Conferenties en Rondetafelgesprakken
END:VEVENT
END:VCALENDAR