BEGIN:VCALENDAR
VERSION:2.0
PRODID:-//Centre d’Appui aux Services de Médiation de Dettes de la Région de Bruxelles-Capitale - ECPv6.15.11//NONSGML v1.0//EN
CALSCALE:GREGORIAN
METHOD:PUBLISH
X-ORIGINAL-URL:https://www.mediationdedettes.be/nl/
X-WR-CALDESC:Evenementen voor Centre d’Appui aux Services de Médiation de Dettes de la Région de Bruxelles-Capitale
REFRESH-INTERVAL;VALUE=DURATION:PT1H
X-Robots-Tag:noindex
X-PUBLISHED-TTL:PT1H
BEGIN:VTIMEZONE
TZID:Europe/Brussels
BEGIN:DAYLIGHT
TZOFFSETFROM:+0100
TZOFFSETTO:+0200
TZNAME:CEST
DTSTART:20250330T010000
END:DAYLIGHT
BEGIN:STANDARD
TZOFFSETFROM:+0200
TZOFFSETTO:+0100
TZNAME:CET
DTSTART:20251026T010000
END:STANDARD
BEGIN:DAYLIGHT
TZOFFSETFROM:+0100
TZOFFSETTO:+0200
TZNAME:CEST
DTSTART:20260329T010000
END:DAYLIGHT
BEGIN:STANDARD
TZOFFSETFROM:+0200
TZOFFSETTO:+0100
TZNAME:CET
DTSTART:20261025T010000
END:STANDARD
BEGIN:DAYLIGHT
TZOFFSETFROM:+0100
TZOFFSETTO:+0200
TZNAME:CEST
DTSTART:20270328T010000
END:DAYLIGHT
BEGIN:STANDARD
TZOFFSETFROM:+0200
TZOFFSETTO:+0100
TZNAME:CET
DTSTART:20271031T010000
END:STANDARD
END:VTIMEZONE
BEGIN:VEVENT
DTSTART;TZID=Europe/Brussels:20260506T093000
DTEND;TZID=Europe/Brussels:20260506T113000
DTSTAMP:20260423T212101
CREATED:20250728T124534Z
LAST-MODIFIED:20250728T124534Z
UID:10004765-1778059800-1778067000@www.mediationdedettes.be
SUMMARY:Inschrijving informatiesessies collectieve schuldenregeling
DESCRIPTION:Informatiesessies over de collectieve schuldenregeling
URL:https://www.mediationdedettes.be/nl/event/inschrijving-informatiesessies-collectieve-schuldenregeling-5/
CATEGORIES:Informatiesessies over de collectieve schuldenregeling
END:VEVENT
END:VCALENDAR