BEGIN:VCALENDAR
VERSION:2.0
PRODID:-//Centre d’Appui aux Services de Médiation de Dettes de la Région de Bruxelles-Capitale - ECPv6.15.11//NONSGML v1.0//EN
CALSCALE:GREGORIAN
METHOD:PUBLISH
X-ORIGINAL-URL:https://www.mediationdedettes.be/nl/
X-WR-CALDESC:Evenementen voor Centre d’Appui aux Services de Médiation de Dettes de la Région de Bruxelles-Capitale
REFRESH-INTERVAL;VALUE=DURATION:PT1H
X-Robots-Tag:noindex
X-PUBLISHED-TTL:PT1H
BEGIN:VTIMEZONE
TZID:Europe/Brussels
BEGIN:DAYLIGHT
TZOFFSETFROM:+0100
TZOFFSETTO:+0200
TZNAME:CEST
DTSTART:20250330T010000
END:DAYLIGHT
BEGIN:STANDARD
TZOFFSETFROM:+0200
TZOFFSETTO:+0100
TZNAME:CET
DTSTART:20251026T010000
END:STANDARD
BEGIN:DAYLIGHT
TZOFFSETFROM:+0100
TZOFFSETTO:+0200
TZNAME:CEST
DTSTART:20260329T010000
END:DAYLIGHT
BEGIN:STANDARD
TZOFFSETFROM:+0200
TZOFFSETTO:+0100
TZNAME:CET
DTSTART:20261025T010000
END:STANDARD
BEGIN:DAYLIGHT
TZOFFSETFROM:+0100
TZOFFSETTO:+0200
TZNAME:CEST
DTSTART:20270328T010000
END:DAYLIGHT
BEGIN:STANDARD
TZOFFSETFROM:+0200
TZOFFSETTO:+0100
TZNAME:CET
DTSTART:20271031T010000
END:STANDARD
END:VTIMEZONE
BEGIN:VEVENT
DTSTART;TZID=Europe/Brussels:20260618T140000
DTEND;TZID=Europe/Brussels:20260618T163000
DTSTAMP:20260423T181757
CREATED:20260211T110203Z
LAST-MODIFIED:20260211T110203Z
UID:10006071-1781791200-1781800200@www.mediationdedettes.be
SUMMARY:Ronde tafel : Stress-sensitief werken – een starterskit
DESCRIPTION:Conferenties en Rondetafelgesprakken
URL:https://www.mediationdedettes.be/nl/event/ronde-tafel-stress-sensitief-werken-een-starterskit-2/
CATEGORIES:Conferenties en Rondetafelgesprakken
END:VEVENT
END:VCALENDAR