BEGIN:VCALENDAR
VERSION:2.0
PRODID:-//Centre d’Appui aux Services de Médiation de Dettes de la Région de Bruxelles-Capitale - ECPv6.15.11//NONSGML v1.0//EN
CALSCALE:GREGORIAN
METHOD:PUBLISH
X-ORIGINAL-URL:https://www.mediationdedettes.be/nl/
X-WR-CALDESC:Evenementen voor Centre d’Appui aux Services de Médiation de Dettes de la Région de Bruxelles-Capitale
REFRESH-INTERVAL;VALUE=DURATION:PT1H
X-Robots-Tag:noindex
X-PUBLISHED-TTL:PT1H
BEGIN:VTIMEZONE
TZID:Europe/Brussels
BEGIN:DAYLIGHT
TZOFFSETFROM:+0100
TZOFFSETTO:+0200
TZNAME:CEST
DTSTART:20240331T010000
END:DAYLIGHT
BEGIN:STANDARD
TZOFFSETFROM:+0200
TZOFFSETTO:+0100
TZNAME:CET
DTSTART:20241027T010000
END:STANDARD
BEGIN:DAYLIGHT
TZOFFSETFROM:+0100
TZOFFSETTO:+0200
TZNAME:CEST
DTSTART:20250330T010000
END:DAYLIGHT
BEGIN:STANDARD
TZOFFSETFROM:+0200
TZOFFSETTO:+0100
TZNAME:CET
DTSTART:20251026T010000
END:STANDARD
BEGIN:DAYLIGHT
TZOFFSETFROM:+0100
TZOFFSETTO:+0200
TZNAME:CEST
DTSTART:20260329T010000
END:DAYLIGHT
BEGIN:STANDARD
TZOFFSETFROM:+0200
TZOFFSETTO:+0100
TZNAME:CET
DTSTART:20261025T010000
END:STANDARD
END:VTIMEZONE
BEGIN:VEVENT
DTSTART;TZID=Europe/Brussels:20251204T140000
DTEND;TZID=Europe/Brussels:20251204T163000
DTSTAMP:20260423T143640
CREATED:20260130T094331Z
LAST-MODIFIED:20260130T094331Z
UID:10006036-1764856800-1764865800@www.mediationdedettes.be
SUMMARY:Conferentie-debat : ontmoeting met de FOD Financiën (in het Frans)
DESCRIPTION:Conferenties en Rondetafelgesprakken
URL:https://www.mediationdedettes.be/nl/event/conferentie-debat-ontmoeting-met-de-fod-financien-in-het-frans-2/
CATEGORIES:Conferenties en Rondetafelgesprakken
END:VEVENT
END:VCALENDAR